Package: alabaster.sce Version: 1.7.0 Command: /home/biocbuild/bbs-3.21-bioc/R/bin/R CMD check --install=check:alabaster.sce.install-out.txt --library=/home/biocbuild/bbs-3.21-bioc/R/site-library --timings alabaster.sce_1.7.0.tar.gz StartedAt: 2025-02-17 19:49:07 -0500 (Mon, 17 Feb 2025) EndedAt: 2025-02-17 19:52:39 -0500 (Mon, 17 Feb 2025) EllapsedTime: 212.4 seconds RetCode: 0 Status: OK CheckDir: alabaster.sce.Rcheck Warnings: 0