Package: alabaster.sce Version: 1.7.0 Command: /Library/Frameworks/R.framework/Resources/bin/R CMD build --keep-empty-dirs --no-resave-data alabaster.sce StartedAt: 2025-02-17 15:50:48 -0500 (Mon, 17 Feb 2025) EndedAt: 2025-02-17 15:51:31 -0500 (Mon, 17 Feb 2025) EllapsedTime: 42.4 seconds RetCode: 0 Status: OK PackageFile: alabaster.sce_1.7.0.tar.gz PackageFileSize: 220.3 KiB