Package: alabaster.sce Version: 1.7.0 Command: rm -rf alabaster.sce.buildbin-libdir && mkdir alabaster.sce.buildbin-libdir && /Users/biocbuild/BBS/utils/build-universal.sh alabaster.sce_1.7.0.tar.gz /Library/Frameworks/R.framework/Resources/bin/R alabaster.sce.buildbin-libdir StartedAt: 2025-02-18 00:13:04 -0500 (Tue, 18 Feb 2025) EndedAt: 2025-02-18 00:13:45 -0500 (Tue, 18 Feb 2025) EllapsedTime: 41.1 seconds RetCode: 0 Status: OK PackageFile: alabaster.sce_1.7.0.tgz PackageFileSize: 293.9 KiB