Package: alabaster.sce Version: 1.7.0 Command: /Library/Frameworks/R.framework/Resources/bin/R CMD INSTALL alabaster.sce StartedAt: 2025-02-17 15:26:21 -0500 (Mon, 17 Feb 2025) EndedAt: 2025-02-17 15:26:33 -0500 (Mon, 17 Feb 2025) EllapsedTime: 11.8 seconds RetCode: 0 Status: OK