Package: alabaster.sce Version: 1.7.0 Command: /Library/Frameworks/R.framework/Resources/bin/R CMD check --install=check:alabaster.sce.install-out.txt --library=/Library/Frameworks/R.framework/Resources/library --no-vignettes --timings alabaster.sce_1.7.0.tar.gz StartedAt: 2025-02-17 17:59:18 -0500 (Mon, 17 Feb 2025) EndedAt: 2025-02-17 18:00:38 -0500 (Mon, 17 Feb 2025) EllapsedTime: 80.0 seconds RetCode: 0 Status: OK CheckDir: alabaster.sce.Rcheck Warnings: 0