Package: alabaster.ranges Version: 1.7.0 Command: chmod a+r alabaster.ranges -R && E:\biocbuild\bbs-3.21-bioc\R\bin\R.exe CMD build --keep-empty-dirs --no-resave-data alabaster.ranges StartedAt: 2025-02-20 17:11:34 -0500 (Thu, 20 Feb 2025) EndedAt: 2025-02-20 17:12:02 -0500 (Thu, 20 Feb 2025) EllapsedTime: 28.6 seconds RetCode: 0 Status: OK PackageFile: alabaster.ranges_1.7.0.tar.gz PackageFileSize: 225.7 KiB