Package: alabaster.ranges Version: 1.7.0 Command: /home/biocbuild/bbs-3.21-bioc/R/bin/R CMD INSTALL alabaster.ranges StartedAt: 2025-02-20 15:24:36 -0500 (Thu, 20 Feb 2025) EndedAt: 2025-02-20 15:24:47 -0500 (Thu, 20 Feb 2025) EllapsedTime: 10.9 seconds RetCode: 0 Status: OK