Package: alabaster.ranges Version: 1.7.0 Command: /home/biocbuild/bbs-3.21-bioc/R/bin/R CMD check --install=check:alabaster.ranges.install-out.txt --library=/home/biocbuild/bbs-3.21-bioc/R/site-library --timings alabaster.ranges_1.7.0.tar.gz StartedAt: 2025-02-20 19:55:24 -0500 (Thu, 20 Feb 2025) EndedAt: 2025-02-20 19:56:52 -0500 (Thu, 20 Feb 2025) EllapsedTime: 88.2 seconds RetCode: 0 Status: OK CheckDir: alabaster.ranges.Rcheck Warnings: 0