Package: alabaster.ranges Version: 1.7.0 Command: /Library/Frameworks/R.framework/Resources/bin/R CMD INSTALL alabaster.ranges StartedAt: 2025-02-20 15:12:05 -0500 (Thu, 20 Feb 2025) EndedAt: 2025-02-20 15:12:22 -0500 (Thu, 20 Feb 2025) EllapsedTime: 16.9 seconds RetCode: 0 Status: OK