Package: alabaster.ranges Version: 1.7.0 Command: /Library/Frameworks/R.framework/Resources/bin/R CMD INSTALL alabaster.ranges StartedAt: 2025-02-19 15:05:15 -0500 (Wed, 19 Feb 2025) EndedAt: 2025-02-19 15:05:20 -0500 (Wed, 19 Feb 2025) EllapsedTime: 4.8 seconds RetCode: 0 Status: OK