Package: alabaster.ranges Version: 1.7.0 Command: /Library/Frameworks/R.framework/Resources/bin/R CMD build --keep-empty-dirs --no-resave-data alabaster.ranges StartedAt: 2025-02-19 15:32:30 -0500 (Wed, 19 Feb 2025) EndedAt: 2025-02-19 15:32:37 -0500 (Wed, 19 Feb 2025) EllapsedTime: 7.1 seconds RetCode: 0 Status: OK PackageFile: alabaster.ranges_1.7.0.tar.gz PackageFileSize: 225.6 KiB