Package: alabaster.matrix Version: 1.7.7 Command: E:\biocbuild\bbs-3.21-bioc\R\bin\R.exe CMD check --no-multiarch --install=check:alabaster.matrix.install-out.txt --library=E:\biocbuild\bbs-3.21-bioc\R\library --no-vignettes --timings alabaster.matrix_1.7.7.tar.gz StartedAt: 2025-02-19 22:32:21 -0500 (Wed, 19 Feb 2025) EndedAt: 2025-02-19 22:37:29 -0500 (Wed, 19 Feb 2025) EllapsedTime: 307.9 seconds RetCode: 0 Status: OK CheckDir: alabaster.matrix.Rcheck Warnings: 0