Package: alabaster.matrix Version: 1.7.7 Command: chmod a+r alabaster.matrix -R && E:\biocbuild\bbs-3.21-bioc\R\bin\R.exe CMD build --keep-empty-dirs --no-resave-data alabaster.matrix StartedAt: 2025-02-20 17:11:31 -0500 (Thu, 20 Feb 2025) EndedAt: 2025-02-20 17:13:29 -0500 (Thu, 20 Feb 2025) EllapsedTime: 118.8 seconds RetCode: 0 Status: OK PackageFile: alabaster.matrix_1.7.7.tar.gz PackageFileSize: 273.7 KiB