Package: alabaster.matrix Version: 1.7.7 Command: rm -rf alabaster.matrix.buildbin-libdir && mkdir alabaster.matrix.buildbin-libdir && /Users/biocbuild/BBS/utils/build-universal.sh alabaster.matrix_1.7.7.tar.gz /Library/Frameworks/R.framework/Resources/bin/R alabaster.matrix.buildbin-libdir StartedAt: 2025-02-19 22:12:53 -0500 (Wed, 19 Feb 2025) EndedAt: 2025-02-19 22:13:05 -0500 (Wed, 19 Feb 2025) EllapsedTime: 12.2 seconds RetCode: 0 Status: OK PackageFile: alabaster.matrix_1.7.7.tgz PackageFileSize: 727 KiB