Package: alabaster.mae Version: 1.7.0 Command: /home/biocbuild/bbs-3.21-bioc/R/bin/R CMD INSTALL alabaster.mae StartedAt: 2025-02-20 15:50:46 -0500 (Thu, 20 Feb 2025) EndedAt: 2025-02-20 15:51:14 -0500 (Thu, 20 Feb 2025) EllapsedTime: 27.9 seconds RetCode: 0 Status: OK