Package: alabaster.mae Version: 1.7.0 Command: /home/biocbuild/bbs-3.21-bioc/R/bin/R CMD check --install=check:alabaster.mae.install-out.txt --library=/home/biocbuild/bbs-3.21-bioc/R/site-library --timings alabaster.mae_1.7.0.tar.gz StartedAt: 2025-02-20 19:55:10 -0500 (Thu, 20 Feb 2025) EndedAt: 2025-02-20 19:59:03 -0500 (Thu, 20 Feb 2025) EllapsedTime: 232.4 seconds RetCode: 0 Status: OK CheckDir: alabaster.mae.Rcheck Warnings: 0