Package: alabaster.mae Version: 1.7.0 Command: /Library/Frameworks/R.framework/Resources/bin/R CMD check --install=check:alabaster.mae.install-out.txt --library=/Library/Frameworks/R.framework/Resources/library --no-vignettes --timings alabaster.mae_1.7.0.tar.gz StartedAt: 2025-02-20 18:47:10 -0500 (Thu, 20 Feb 2025) EndedAt: 2025-02-20 18:51:21 -0500 (Thu, 20 Feb 2025) EllapsedTime: 251.0 seconds RetCode: 0 Status: OK CheckDir: alabaster.mae.Rcheck Warnings: 0