Package: alabaster.files Version: 1.5.0 Command: chmod a+r alabaster.files -R && E:\biocbuild\bbs-3.21-bioc\R\bin\R.exe CMD build --keep-empty-dirs --no-resave-data alabaster.files StartedAt: 2025-02-18 17:10:43 -0500 (Tue, 18 Feb 2025) EndedAt: 2025-02-18 17:11:27 -0500 (Tue, 18 Feb 2025) EllapsedTime: 44.6 seconds RetCode: 0 Status: OK PackageFile: alabaster.files_1.5.0.tar.gz PackageFileSize: 234.3 KiB