Package: alabaster.files Version: 1.5.0 Command: /Library/Frameworks/R.framework/Resources/bin/R CMD INSTALL alabaster.files StartedAt: 2025-02-20 15:22:39 -0500 (Thu, 20 Feb 2025) EndedAt: 2025-02-20 15:23:01 -0500 (Thu, 20 Feb 2025) EllapsedTime: 21.7 seconds RetCode: 0 Status: OK