Package: alabaster.files Version: 1.5.0 Command: rm -rf alabaster.files.buildbin-libdir && mkdir alabaster.files.buildbin-libdir && /Users/biocbuild/BBS/utils/build-universal.sh alabaster.files_1.5.0.tar.gz /Library/Frameworks/R.framework/Resources/bin/R alabaster.files.buildbin-libdir StartedAt: 2025-02-20 00:19:56 -0500 (Thu, 20 Feb 2025) EndedAt: 2025-02-20 00:20:19 -0500 (Thu, 20 Feb 2025) EllapsedTime: 23.0 seconds RetCode: 0 Status: OK PackageFile: alabaster.files_1.5.0.tgz PackageFileSize: 562.7 KiB