Package: alabaster.bumpy Version: 1.7.0 Command: /home/biocbuild/bbs-3.21-bioc/R/bin/R CMD build --keep-empty-dirs --no-resave-data alabaster.bumpy StartedAt: 2025-02-17 16:05:34 -0500 (Mon, 17 Feb 2025) EndedAt: 2025-02-17 16:05:51 -0500 (Mon, 17 Feb 2025) EllapsedTime: 17.0 seconds RetCode: 0 Status: OK PackageFile: alabaster.bumpy_1.7.0.tar.gz PackageFileSize: 235.5 KiB