Package: alabaster.bumpy Version: 1.7.0 Command: /Library/Frameworks/R.framework/Resources/bin/R CMD check --install=check:alabaster.bumpy.install-out.txt --library=/Library/Frameworks/R.framework/Resources/library --no-vignettes --timings alabaster.bumpy_1.7.0.tar.gz StartedAt: 2025-02-18 18:44:32 -0500 (Tue, 18 Feb 2025) EndedAt: 2025-02-18 18:46:16 -0500 (Tue, 18 Feb 2025) EllapsedTime: 104.0 seconds RetCode: 0 Status: OK CheckDir: alabaster.bumpy.Rcheck Warnings: 0