Package: alabaster.bumpy Version: 1.7.0 Command: /Library/Frameworks/R.framework/Resources/bin/R CMD build --keep-empty-dirs --no-resave-data alabaster.bumpy StartedAt: 2025-02-19 15:50:56 -0500 (Wed, 19 Feb 2025) EndedAt: 2025-02-19 15:51:16 -0500 (Wed, 19 Feb 2025) EllapsedTime: 20.6 seconds RetCode: 0 Status: OK PackageFile: alabaster.bumpy_1.7.0.tar.gz PackageFileSize: 235.4 KiB