Package: alabaster.bumpy Version: 1.7.0 Command: /Library/Frameworks/R.framework/Resources/bin/R CMD INSTALL alabaster.bumpy StartedAt: 2025-02-17 15:03:58 -0500 (Mon, 17 Feb 2025) EndedAt: 2025-02-17 15:04:04 -0500 (Mon, 17 Feb 2025) EllapsedTime: 5.3 seconds RetCode: 0 Status: OK