Package: alabaster.bumpy Version: 1.7.0 Command: /Library/Frameworks/R.framework/Resources/bin/R CMD check --install=check:alabaster.bumpy.install-out.txt --library=/Library/Frameworks/R.framework/Resources/library --no-vignettes --timings alabaster.bumpy_1.7.0.tar.gz StartedAt: 2025-02-17 17:58:43 -0500 (Mon, 17 Feb 2025) EndedAt: 2025-02-17 17:59:18 -0500 (Mon, 17 Feb 2025) EllapsedTime: 34.4 seconds RetCode: 0 Status: OK CheckDir: alabaster.bumpy.Rcheck Warnings: 0