Package: airpart Version: 1.15.0 Command: rm -rf airpart.buildbin-libdir && mkdir airpart.buildbin-libdir && /Users/biocbuild/BBS/utils/build-universal.sh airpart_1.15.0.tar.gz /Library/Frameworks/R.framework/Resources/bin/R airpart.buildbin-libdir StartedAt: 2025-02-20 00:19:53 -0500 (Thu, 20 Feb 2025) EndedAt: 2025-02-20 00:20:40 -0500 (Thu, 20 Feb 2025) EllapsedTime: 46.1 seconds RetCode: 0 Status: OK PackageFile: airpart_1.15.0.tgz PackageFileSize: 1.578 MiB