Package: agilp Version: 3.39.0 Command: E:\biocbuild\bbs-3.21-bioc\R\bin\R.exe CMD INSTALL agilp StartedAt: 2025-02-20 15:16:40 -0500 (Thu, 20 Feb 2025) EndedAt: 2025-02-20 15:17:02 -0500 (Thu, 20 Feb 2025) EllapsedTime: 21.7 seconds RetCode: 0 Status: OK