Package: agilp Version: 3.39.0 Command: rm -rf agilp.buildbin-libdir && mkdir agilp.buildbin-libdir && E:\biocbuild\bbs-3.21-bioc\R\bin\R.exe CMD INSTALL --build --library=agilp.buildbin-libdir agilp_3.39.0.tar.gz StartedAt: 2025-02-21 07:30:44 -0500 (Fri, 21 Feb 2025) EndedAt: 2025-02-21 07:31:00 -0500 (Fri, 21 Feb 2025) EllapsedTime: 16.6 seconds RetCode: 0 Status: OK PackageFile: agilp_3.39.0.zip PackageFileSize: 387.8 KiB