Package: agilp Version: 3.39.0 Command: /home/biocbuild/bbs-3.21-bioc/R/bin/R CMD build --keep-empty-dirs --no-resave-data agilp StartedAt: 2025-02-20 16:24:04 -0500 (Thu, 20 Feb 2025) EndedAt: 2025-02-20 16:24:10 -0500 (Thu, 20 Feb 2025) EllapsedTime: 6.0 seconds RetCode: 0 Status: OK PackageFile: agilp_3.39.0.tar.gz PackageFileSize: 453.5 KiB