Package: agilp Version: 3.39.0 Command: rm -rf agilp.buildbin-libdir && mkdir agilp.buildbin-libdir && /Users/biocbuild/BBS/utils/build-universal.sh agilp_3.39.0.tar.gz /Library/Frameworks/R.framework/Resources/bin/R agilp.buildbin-libdir StartedAt: 2025-02-21 00:18:23 -0500 (Fri, 21 Feb 2025) EndedAt: 2025-02-21 00:18:33 -0500 (Fri, 21 Feb 2025) EllapsedTime: 10.3 seconds RetCode: 0 Status: OK PackageFile: agilp_3.39.0.tgz PackageFileSize: 489.1 KiB