Package: agilp Version: 3.39.0 Command: /Library/Frameworks/R.framework/Resources/bin/R CMD INSTALL agilp StartedAt: 2025-02-20 15:00:55 -0500 (Thu, 20 Feb 2025) EndedAt: 2025-02-20 15:00:59 -0500 (Thu, 20 Feb 2025) EllapsedTime: 4.5 seconds RetCode: 0 Status: OK