Package: affylmGUI Version: 1.81.0 Command: chmod a+r affylmGUI -R && E:\biocbuild\bbs-3.21-bioc\R\bin\R.exe CMD build --keep-empty-dirs --no-resave-data affylmGUI StartedAt: 2025-02-21 17:50:17 -0500 (Fri, 21 Feb 2025) EndedAt: 2025-02-21 17:51:25 -0500 (Fri, 21 Feb 2025) EllapsedTime: 67.4 seconds RetCode: 0 Status: OK PackageFile: affylmGUI_1.81.0.tar.gz PackageFileSize: 1.659 MiB