Package: affylmGUI Version: 1.81.0 Command: /home/biocbuild/bbs-3.21-bioc/R/bin/R CMD check --install=check:affylmGUI.install-out.txt --library=/home/biocbuild/bbs-3.21-bioc/R/site-library --timings affylmGUI_1.81.0.tar.gz StartedAt: 2025-02-20 19:53:45 -0500 (Thu, 20 Feb 2025) EndedAt: 2025-02-20 19:55:24 -0500 (Thu, 20 Feb 2025) EllapsedTime: 99.2 seconds RetCode: 0 Status: OK CheckDir: affylmGUI.Rcheck Warnings: 0