Package: affylmGUI Version: 1.81.0 Command: /home/biocbuild/bbs-3.21-bioc/R/bin/R CMD build --keep-empty-dirs --no-resave-data affylmGUI StartedAt: 2025-02-20 16:23:52 -0500 (Thu, 20 Feb 2025) EndedAt: 2025-02-20 16:24:16 -0500 (Thu, 20 Feb 2025) EllapsedTime: 24.0 seconds RetCode: 0 Status: OK PackageFile: affylmGUI_1.81.0.tar.gz PackageFileSize: 1.758 MiB