Package: affylmGUI Version: 1.81.0 Command: /Library/Frameworks/R.framework/Resources/bin/R CMD INSTALL affylmGUI StartedAt: 2025-02-20 15:22:36 -0500 (Thu, 20 Feb 2025) EndedAt: 2025-02-20 15:23:09 -0500 (Thu, 20 Feb 2025) EllapsedTime: 32.8 seconds RetCode: 0 Status: OK