Package: affylmGUI Version: 1.81.0 Command: rm -rf affylmGUI.buildbin-libdir && mkdir affylmGUI.buildbin-libdir && /Users/biocbuild/BBS/utils/build-universal.sh affylmGUI_1.81.0.tar.gz /Library/Frameworks/R.framework/Resources/bin/R affylmGUI.buildbin-libdir StartedAt: 2025-02-21 00:18:23 -0500 (Fri, 21 Feb 2025) EndedAt: 2025-02-21 00:19:03 -0500 (Fri, 21 Feb 2025) EllapsedTime: 40.4 seconds RetCode: 0 Status: OK PackageFile: affylmGUI_1.81.0.tgz PackageFileSize: 2.142 MiB