Package: affylmGUI Version: 1.81.0 Command: /Library/Frameworks/R.framework/Resources/bin/R CMD build --keep-empty-dirs --no-resave-data affylmGUI StartedAt: 2025-02-20 15:31:45 -0500 (Thu, 20 Feb 2025) EndedAt: 2025-02-20 15:31:57 -0500 (Thu, 20 Feb 2025) EllapsedTime: 12.1 seconds RetCode: 0 Status: OK PackageFile: affylmGUI_1.81.0.tar.gz PackageFileSize: 1.758 MiB