Package: affyio Version: 1.77.3 Command: /home/biocbuild/bbs-3.21-bioc/R/bin/R CMD INSTALL affyio StartedAt: 2025-02-19 15:03:19 -0500 (Wed, 19 Feb 2025) EndedAt: 2025-02-19 15:03:32 -0500 (Wed, 19 Feb 2025) EllapsedTime: 12.5 seconds RetCode: 0 Status: OK