Package: affyio Version: 1.77.3 Command: /home/biocbuild/bbs-3.21-bioc/R/bin/R CMD check --install=check:affyio.install-out.txt --library=/home/biocbuild/bbs-3.21-bioc/R/site-library --timings affyio_1.77.3.tar.gz StartedAt: 2025-02-19 19:51:24 -0500 (Wed, 19 Feb 2025) EndedAt: 2025-02-19 19:51:37 -0500 (Wed, 19 Feb 2025) EllapsedTime: 13.0 seconds RetCode: 0 Status: WARNINGS CheckDir: affyio.Rcheck Warnings: 2