Package: affycoretools Version: 1.79.0 Command: /Library/Frameworks/R.framework/Resources/bin/R CMD build --keep-empty-dirs --no-resave-data affycoretools StartedAt: 2025-02-19 15:50:26 -0500 (Wed, 19 Feb 2025) EndedAt: 2025-02-19 15:52:10 -0500 (Wed, 19 Feb 2025) EllapsedTime: 104.2 seconds RetCode: 0 Status: OK PackageFile: affycoretools_1.79.0.tar.gz PackageFileSize: 6.594 MiB