Package: affycoretools Version: 1.79.0 Command: rm -rf affycoretools.buildbin-libdir && mkdir affycoretools.buildbin-libdir && /Users/biocbuild/BBS/utils/build-universal.sh affycoretools_1.79.0.tar.gz /Library/Frameworks/R.framework/Resources/bin/R affycoretools.buildbin-libdir StartedAt: 2025-02-20 00:19:44 -0500 (Thu, 20 Feb 2025) EndedAt: 2025-02-20 00:21:13 -0500 (Thu, 20 Feb 2025) EllapsedTime: 88.8 seconds RetCode: 0 Status: OK PackageFile: affycoretools_1.79.0.tgz PackageFileSize: 574.3 KiB