Package: affycomp Version: 1.83.0 Command: chmod a+r affycomp -R && E:\biocbuild\bbs-3.21-bioc\R\bin\R.exe CMD build --keep-empty-dirs --no-resave-data affycomp StartedAt: 2025-02-18 17:09:19 -0500 (Tue, 18 Feb 2025) EndedAt: 2025-02-18 17:09:57 -0500 (Tue, 18 Feb 2025) EllapsedTime: 37.2 seconds RetCode: 0 Status: OK PackageFile: affycomp_1.83.0.tar.gz PackageFileSize: 7.877 MiB