Package: affycomp Version: 1.83.0 Command: /home/biocbuild/bbs-3.21-bioc/R/bin/R CMD INSTALL affycomp StartedAt: 2025-02-18 15:10:50 -0500 (Tue, 18 Feb 2025) EndedAt: 2025-02-18 15:10:54 -0500 (Tue, 18 Feb 2025) EllapsedTime: 4.0 seconds RetCode: 0 Status: OK