Package: affycomp Version: 1.83.0 Command: /Library/Frameworks/R.framework/Resources/bin/R CMD INSTALL affycomp StartedAt: 2025-02-19 15:01:28 -0500 (Wed, 19 Feb 2025) EndedAt: 2025-02-19 15:01:33 -0500 (Wed, 19 Feb 2025) EllapsedTime: 4.7 seconds RetCode: 0 Status: OK