Package: affyPLM Version: 1.83.3 Command: rm -rf affyPLM.buildbin-libdir && mkdir affyPLM.buildbin-libdir && E:\biocbuild\bbs-3.21-bioc\R\bin\R.exe CMD INSTALL --build --library=affyPLM.buildbin-libdir affyPLM_1.83.3.tar.gz StartedAt: 2025-02-21 07:30:38 -0500 (Fri, 21 Feb 2025) EndedAt: 2025-02-21 07:32:21 -0500 (Fri, 21 Feb 2025) EllapsedTime: 102.6 seconds RetCode: 0 Status: OK PackageFile: affyPLM_1.83.3.zip PackageFileSize: 2.798 MiB