Package: affyPLM Version: 1.83.3 Command: /home/biocbuild/bbs-3.21-bioc/R/bin/R CMD INSTALL affyPLM StartedAt: 2025-02-20 15:25:44 -0500 (Thu, 20 Feb 2025) EndedAt: 2025-02-20 15:26:04 -0500 (Thu, 20 Feb 2025) EllapsedTime: 19.7 seconds RetCode: 0 Status: OK