Package: affyPLM Version: 1.83.3 Command: /home/biocbuild/bbs-3.21-bioc/R/bin/R CMD check --install=check:affyPLM.install-out.txt --library=/home/biocbuild/bbs-3.21-bioc/R/site-library --timings affyPLM_1.83.3.tar.gz StartedAt: 2025-02-20 19:53:50 -0500 (Thu, 20 Feb 2025) EndedAt: 2025-02-20 19:58:16 -0500 (Thu, 20 Feb 2025) EllapsedTime: 266.5 seconds RetCode: 0 Status: WARNINGS CheckDir: affyPLM.Rcheck Warnings: 1