Package: affyPLM Version: 1.83.3 Command: /home/biocbuild/bbs-3.21-bioc/R/bin/R CMD build --keep-empty-dirs --no-resave-data affyPLM StartedAt: 2025-02-20 16:23:53 -0500 (Thu, 20 Feb 2025) EndedAt: 2025-02-20 16:25:35 -0500 (Thu, 20 Feb 2025) EllapsedTime: 102.1 seconds RetCode: 0 Status: OK PackageFile: affyPLM_1.83.3.tar.gz PackageFileSize: 7.158 MiB