Package: affyPLM Version: 1.83.2 Command: /home/biocbuild/R/R/bin/R CMD check --install=check:affyPLM.install-out.txt --library=/home/biocbuild/R/R/site-library --no-vignettes --timings affyPLM_1.83.2.tar.gz StartedAt: 2025-01-28 03:27:13 -0000 (Tue, 28 Jan 2025) EndedAt: 2025-01-28 03:30:54 -0000 (Tue, 28 Jan 2025) EllapsedTime: 220.4 seconds RetCode: 0 Status: WARNINGS CheckDir: affyPLM.Rcheck Warnings: 1