Package: affyPLM Version: 1.83.3 Command: /home/biocbuild/R/R/bin/R CMD build --keep-empty-dirs --no-resave-data affyPLM StartedAt: 2025-01-29 20:46:15 -0000 (Wed, 29 Jan 2025) EndedAt: 2025-01-29 20:48:25 -0000 (Wed, 29 Jan 2025) EllapsedTime: 130.1 seconds RetCode: 0 Status: OK PackageFile: affyPLM_1.83.3.tar.gz PackageFileSize: 6.448 MiB